BEGIN:VCALENDAR
VERSION:2.0
PRODID:-//https://www.urretxu.eus///NONSGML kigkonsult.se iCalcreator 2.10.15//
METHOD:PUBLISH
BEGIN:VEVENT
UID:20260419T164414UTC-6696pAm9vu@https://www.urretxu.eus/
DTSTAMP:20260419T164414Z
DESCRIPTION:“BELDURREN AMETSA” IPUIN-SAIOA\, Alboka eta Stravinsky.\nIpuin 
 saiorako gonbidapenak jasotzea: azaroaren 10etik aurrera liburutegian.\nAn
 tolatzailea: Urretxuko Udala https://www.urretxu.eus/eu/component/rsevents
 pro/ekitaldia/19854-interesgunea-misterioa-fantasia/?Itemid=775
DTSTART:20251125T160000Z
DTEND:20251125T170000Z
LOCATION:Urretxuko Udala (Iparragirre Kalea\, 20\, 20700 Urretxu\, Gipuzkoa
 \, Spain)
SUMMARY:INTERESGUNEA: MISTERIOA - FANTASIA
URL:https://www.urretxu.eus/eu/component/rseventspro/ekitaldia/19854-intere
 sgunea-misterioa-fantasia/?Itemid=775
END:VEVENT
END:VCALENDAR
