BEGIN:VCALENDAR
VERSION:2.0
PRODID:-//https://www.urretxu.eus///NONSGML kigkonsult.se iCalcreator 2.10.15//
METHOD:PUBLISH
BEGIN:VEVENT
UID:20260419T163939UTC-36364HcuAo@https://www.urretxu.eus/
DTSTAMP:20260419T163939Z
DESCRIPTION:• Ipuin saiorako gonbidapenak jasotzea: urriaren 6tik aurrera l
 iburutegian• Adina: 2 urtetik gora\, (2-3 urte + heldu bat)\nANTOLATZAILEA
 : Urretxuko Udala https://www.urretxu.eus/eu/component/rseventspro/ekitald
 ia/19821-interesgunea-hiru-txerrikumeak-ipuin-saioa-alberto-bargos/?Itemid
 =775
DTSTART:20251028T160000Z
DTEND:20251028T180000Z
LOCATION:Urretxuko Liburutegia (Jauregi Kalea\, 21\, 20700 Urretxu\, Gipuzk
 oa\, Spain)
SUMMARY:INTERESGUNEA: HIRU TXERRIKUMEAK” IPUIN-SAIOA\, Alberto Bargos
URL:https://www.urretxu.eus/eu/component/rseventspro/ekitaldia/19821-intere
 sgunea-hiru-txerrikumeak-ipuin-saioa-alberto-bargos/?Itemid=775
END:VEVENT
END:VCALENDAR
