BEGIN:VCALENDAR
VERSION:2.0
PRODID:-//https://www.urretxu.eus///NONSGML kigkonsult.se iCalcreator 2.10.15//
METHOD:PUBLISH
BEGIN:VEVENT
UID:20260420T091219UTC-8267f2NdLE@https://www.urretxu.eus/
DTSTAMP:20260420T091219Z
DESCRIPTION:Liburua: “EGAÑAZPI\, EZINK ESAN POLITA EZ DELA”\, Gorka Erostar
 be Leunda (Idazlea bertan izango da)\nANTOLATZAILEA: Urretxu eta Zumarraga
 ko udalak eta Udal Euskaltegia\n\n  https://www.urretxu.eus/eu/component/r
 seventspro/ekitaldia/19814-irakurle-taldea-eganazpi-ezink-esan-polita-ez-d
 ela/?Itemid=1213
DTSTART:20250429T170000Z
DTEND:20250429T180000Z
LOCATION:Aizpurunea Kultur Etxea (Urretxu) (Jauregi Kalea\, 19\, 20700 Urre
 txu\, Gipuzkoa\, Spain)
SUMMARY:IRAKURLE TALDEA: “EGAÑAZPI\, EZINK ESAN POLITA EZ DELA”
URL:https://www.urretxu.eus/eu/component/rseventspro/ekitaldia/19814-irakur
 le-taldea-eganazpi-ezink-esan-polita-ez-dela/?Itemid=1213
END:VEVENT
END:VCALENDAR
