BEGIN:VCALENDAR
VERSION:2.0
PRODID:-//https://www.urretxu.eus///NONSGML kigkonsult.se iCalcreator 2.10.15//
METHOD:PUBLISH
BEGIN:VEVENT
UID:20260424T162253UTC-59191ieT3N@https://www.urretxu.eus/
DTSTAMP:20260424T162253Z
DESCRIPTION:GERRAZ BERTSO JARRIEN EMANALDIA\, Negu Hurbilak-en eskutik\nANT
 OLATZAILEA: Urretxu eta Zumarragako Bertso Eskola\n\n  https://www.urretxu
 .eus/eu/component/rseventspro/ekitaldia/19812-martxoan-bertsoa-bertso-musi
 katuak/?Itemid=1213
DTSTART:20250327T173000Z
DTEND:20250327T183000Z
LOCATION:Zelai Arizti kultur etxea (Zumarraga) (Legazpi Kalea\, 7\, 20700 Z
 umarraga\, Gipuzkoa\, Spain)
SUMMARY:'MARTXOAN BERTSOA':  BERTSO MUSIKATUAK
URL:https://www.urretxu.eus/eu/component/rseventspro/ekitaldia/19812-martxo
 an-bertsoa-bertso-musikatuak/?Itemid=1213
END:VEVENT
END:VCALENDAR
