BEGIN:VCALENDAR
VERSION:2.0
PRODID:-//https://www.urretxu.eus///NONSGML kigkonsult.se iCalcreator 2.10.15//
METHOD:PUBLISH
BEGIN:VEVENT
UID:20260420T090910UTC-4454L1k0he@https://www.urretxu.eus/
DTSTAMP:20260420T090910Z
DESCRIPTION:KOMIKI TAILERRA: “KOMIKIAK SORTZEN” /Jordi Bermejo\nAdina: 8 ur
 tetik gorako haurrakLeku mugatuakGonbidapenak  jasotzea: apirilaren 1-11ra
  eta apirilaren 29an liburutegian\nAntolatzailea: Urretxuko Udala https://
 www.urretxu.eus/eu/component/rseventspro/ekitaldia/19785-interesgunea-libu
 ruak-plazara-komiki-tailerra/?Itemid=1213
DTSTART:20250429T150000Z
DTEND:20250429T160000Z
LOCATION:Urretxuko Liburutegia (Jauregi Kalea\, 21\, 20700 Urretxu\, Gipuzk
 oa\, Spain)
SUMMARY:INTERESGUNEA: LIBURUAK PLAZARA - KOMIKI TAILERRA
URL:https://www.urretxu.eus/eu/component/rseventspro/ekitaldia/19785-intere
 sgunea-liburuak-plazara-komiki-tailerra/?Itemid=1213
END:VEVENT
END:VCALENDAR
