BEGIN:VCALENDAR
VERSION:2.0
PRODID:-//https://www.urretxu.eus///NONSGML kigkonsult.se iCalcreator 2.10.15//
METHOD:PUBLISH
BEGIN:VEVENT
UID:20260424T020615UTC-0538Caj0s7@https://www.urretxu.eus/
DTSTAMP:20260424T020615Z
DESCRIPTION:    • Kuota: 10\,30€     • Programa honetako 3 saio edo gehiago
 tan apuntatuz gero\, %25eko deskontua    • Izen-ematea zabalik kultur etxe
 an\; maiatzaren 10 arte \nAntolatzailea: Urretxuko Udala https://www.urret
 xu.eus/eu/component/rseventspro/ekitaldia/19771-giza-irudia-maratoia-josu-
 marotorekin/?Itemid=775
DTSTART:20250510T080000Z
DTEND:20250510T160000Z
LOCATION:Labeaga Aretoa (Urretxu) (Labeaga Kalea\, 20\, 20700 Urretxu\, Gip
 uzkoa\, Spain)
SUMMARY:GIZA IRUDIA MARATOIA Josu Marotorekin
URL:https://www.urretxu.eus/eu/component/rseventspro/ekitaldia/19771-giza-i
 rudia-maratoia-josu-marotorekin/?Itemid=775
END:VEVENT
END:VCALENDAR
