BEGIN:VCALENDAR
VERSION:2.0
PRODID:-//https://www.urretxu.eus///NONSGML kigkonsult.se iCalcreator 2.10.15//
METHOD:PUBLISH
BEGIN:VEVENT
UID:20260419T181823UTC-3927zoCu70@https://www.urretxu.eus/
DTSTAMP:20260419T181823Z
DESCRIPTION:Liburua: Novelas breves de escritoras españolas (1900-1936). Ed
 ición de Ángela Ena Bordonada. \nANTOLATZAILEA: Urretxuko Udala\n\n  https
 ://www.urretxu.eus/eu/component/rseventspro/ekitaldia/19728-munduko-emakum
 een-literaturaren-kluba/?Itemid=775
DTSTART:20250130T173000Z
DTEND:20250130T183000Z
LOCATION:Aizpurunea Kultur Etxea (Urretxu) (Jauregi Kalea\, 19\, 20700 Urre
 txu\, Gipuzkoa\, Spain)
SUMMARY:MUNDUKO EMAKUMEEN LITERATURAREN KLUBA
URL:https://www.urretxu.eus/eu/component/rseventspro/ekitaldia/19728-munduk
 o-emakumeen-literaturaren-kluba/?Itemid=775
END:VEVENT
END:VCALENDAR
