BEGIN:VCALENDAR
VERSION:2.0
PRODID:-//https://www.urretxu.eus///NONSGML kigkonsult.se iCalcreator 2.10.15//
METHOD:PUBLISH
BEGIN:VEVENT
UID:20260420T090854UTC-4413UzTnO8@https://www.urretxu.eus/
DTSTAMP:20260420T090854Z
DESCRIPTION:Liburua: 'SU FESTAK'\, Jon Urzelai. Idazlea bertan izango da. E
 uskadi Literatura Saria 2024. \nANTOLATZAILEA: Urretxu eta Zumarragako uda
 lak eta Udal Euskaltegia\n\n  https://www.urretxu.eus/eu/component/rsevent
 spro/ekitaldia/19726-irakurle-taldea/?Itemid=1213
DTSTART:20250121T180000Z
DTEND:20250121T190000Z
LOCATION:Aizpurunea Kultur Etxea (Urretxu) (Jauregi Kalea\, 19\, 20700 Urre
 txu\, Gipuzkoa\, Spain)
SUMMARY:IRAKURLE TALDEA
URL:https://www.urretxu.eus/eu/component/rseventspro/ekitaldia/19726-irakur
 le-taldea/?Itemid=1213
END:VEVENT
END:VCALENDAR
