BEGIN:VCALENDAR
VERSION:2.0
PRODID:-//https://www.urretxu.eus///NONSGML kigkonsult.se iCalcreator 2.10.15//
METHOD:PUBLISH
BEGIN:VEVENT
UID:20260419T181825UTC-9143Drlmuj@https://www.urretxu.eus/
DTSTAMP:20260419T181825Z
DESCRIPTION:ANTOLATZAILEA: Urretxuko Udala\n\n  https://www.urretxu.eus/eu/
 component/rseventspro/ekitaldia/19701-urrelur-argazki-lehiaketako-sari-ban
 aketa/?Itemid=775
DTSTART:20251121T180000Z
DTEND:20251121T190000Z
LOCATION:Udaletxeko Portaloia (Urretxu) (Casa de Ipeñarreta\, Iparragirre K
 alea\, 20\, 20700 Urretxu\, Guipúzcoa\, Zumarraga\, Spain)
SUMMARY:URRELUR ARGAZKI LEHIAKETAKO SARI BANAKETA
URL:https://www.urretxu.eus/eu/component/rseventspro/ekitaldia/19701-urrelu
 r-argazki-lehiaketako-sari-banaketa/?Itemid=775
END:VEVENT
END:VCALENDAR
