BEGIN:VCALENDAR
VERSION:2.0
PRODID:-//https://www.urretxu.eus///NONSGML kigkonsult.se iCalcreator 2.10.15//
METHOD:PUBLISH
BEGIN:VEVENT
UID:20260419T181913UTC-9154GxU9Od@https://www.urretxu.eus/
DTSTAMP:20260419T181913Z
DESCRIPTION:DATAK: Azaroak 21a arte lanak aurkezteko\nTOKIAK: Zelai Arizti 
 kultur etxea (Zumarraga) / Aizpurunea kultur etxea (Urretxu)\nANTOLATZAILE
 A: Urretxu eta Zumarragako udalak\n\n  https://www.urretxu.eus/eu/componen
 t/rseventspro/ekitaldia/19700-haurrentzako-gabonetako-krisma-eta-ipuin-leh
 iaketak/?Itemid=775
DTSTART:20251031T230000Z
DTEND:20251121T225700Z
LOCATION:Aizpurunea Kultur Etxea (Urretxu) (Jauregi Kalea\, 19\, 20700 Urre
 txu\, Gipuzkoa\, Spain)
SUMMARY:HAURRENTZAKO GABONETAKO KRISMA ETA IPUIN LEHIAKETAK
URL:https://www.urretxu.eus/eu/component/rseventspro/ekitaldia/19700-haurre
 ntzako-gabonetako-krisma-eta-ipuin-lehiaketak/?Itemid=775
END:VEVENT
END:VCALENDAR
