BEGIN:VCALENDAR
VERSION:2.0
PRODID:-//https://www.urretxu.eus///NONSGML kigkonsult.se iCalcreator 2.10.15//
METHOD:PUBLISH
BEGIN:VEVENT
UID:20260424T150037UTC-3233EUu2Xm@https://www.urretxu.eus/
DTSTAMP:20260424T150037Z
DESCRIPTION:EGUNAK: 1 – 23\nORDUAK: 10:00 – 14:00 / 17:00 -20:30 astelehene
 tik ostiralera eta 10:00 – 13:00 larunbatetan\nANTOLATZAILEA: Urretxuko Ud
 ala\n\n  https://www.urretxu.eus/eu/component/rseventspro/ekitaldia/19615-
 2024ko-urretxuko-santa-anastasia-jaietako-egitarauaren-portada-aukeratzeko
 -lehiaketako-lanen-erakusketa/?Itemid=775
DTSTART:20240901T080000Z
DTEND:20240923T183000Z
LOCATION:Aizpurunea Kultur Etxea (Urretxu) (Jauregi Kalea\, 19\, 20700 Urre
 txu\, Gipuzkoa\, Spain)
SUMMARY:2024ko URRETXUKO SANTA ANASTASIA JAIETAKO EGITARAUAREN PORTADA AUKE
 RATZEKO LEHIAKETAKO LANEN ERAKUSKETA
URL:https://www.urretxu.eus/eu/component/rseventspro/ekitaldia/19615-2024ko
 -urretxuko-santa-anastasia-jaietako-egitarauaren-portada-aukeratzeko-lehia
 ketako-lanen-erakusketa/?Itemid=775
END:VEVENT
END:VCALENDAR
