BEGIN:VCALENDAR
VERSION:2.0
PRODID:-//https://www.urretxu.eus///NONSGML kigkonsult.se iCalcreator 2.10.15//
METHOD:PUBLISH
BEGIN:VEVENT
UID:20260419T212529UTC-51523tt4Sf@https://www.urretxu.eus/
DTSTAMP:20260419T212529Z
DESCRIPTION:Ederrena pilotalekua (Urretxu)\nAntolatzailea: Goierri K.E. htt
 ps://www.urretxu.eus/eu/component/rseventspro/ekitaldia/19543-san-joan-txi
 ki-pilota-txapelketa-finalak/?Itemid=775
DTSTART:20250621T083000Z
DTEND:20250621T103000Z
LOCATION:Ederrena Pilotalekua (Urretxu) (San Martin Etxetaldea\, 4\, 20700 
 Urretxu\, Gipuzkoa\, Spain)
SUMMARY:SAN JOAN TXIKI PILOTA TXAPELKETA FINALAK
URL:https://www.urretxu.eus/eu/component/rseventspro/ekitaldia/19543-san-jo
 an-txiki-pilota-txapelketa-finalak/?Itemid=775
END:VEVENT
END:VCALENDAR
