BEGIN:VCALENDAR
VERSION:2.0
PRODID:-//https://www.urretxu.eus///NONSGML kigkonsult.se iCalcreator 2.10.15//
METHOD:PUBLISH
BEGIN:VEVENT
UID:20260419T212333UTC-79382t5iLB@https://www.urretxu.eus/
DTSTAMP:20260419T212333Z
DESCRIPTION:11:00-20:00 egunero\nIrailaren 7a arte\n \nAntolatzailea: Urret
 xuko Udala https://www.urretxu.eus/eu/component/rseventspro/ekitaldia/1953
 0-igerilekuen-irekiera/?Itemid=775
DTSTART:20250613T090000Z
DTEND:20250907T180000Z
LOCATION:Pagoeta Udal Igerilekua (Urretxu) (Pagoeta Auz.\, 6\, 20700 Urretx
 u\, Gipuzkoa\, Spain)
SUMMARY:IGERILEKUEN IREKIERA 
URL:https://www.urretxu.eus/eu/component/rseventspro/ekitaldia/19530-igeril
 ekuen-irekiera/?Itemid=775
END:VEVENT
END:VCALENDAR
