BEGIN:VCALENDAR
VERSION:2.0
PRODID:-//https://www.urretxu.eus///NONSGML kigkonsult.se iCalcreator 2.10.15//
METHOD:PUBLISH
BEGIN:VEVENT
UID:20260419T212502UTC-4925HLVeae@https://www.urretxu.eus/
DTSTAMP:20260419T212502Z
DESCRIPTION:Antolatzailea: Goierri K.Ek. https://www.urretxu.eus/eu/compone
 nt/rseventspro/ekitaldia/19524-txirrindularitza-eskolen-proba-san-joan-sar
 ia/?Itemid=775
DTSTART:20250607T143000Z
DTEND:20250607T163000Z
LOCATION:Urretxu eta Zumarraga (Casa de Ipeñarreta\, Iparragirre Kalea\, 20
 \, 20700 Urretxu\, Guipúzcoa\, Spain)
SUMMARY:TXIRRINDULARITZA ESKOLEN PROBA SAN JOAN SARIA
URL:https://www.urretxu.eus/eu/component/rseventspro/ekitaldia/19524-txirri
 ndularitza-eskolen-proba-san-joan-saria/?Itemid=775
END:VEVENT
END:VCALENDAR
