BEGIN:VCALENDAR
VERSION:2.0
PRODID:-//https://www.urretxu.eus///NONSGML kigkonsult.se iCalcreator 2.10.15//
METHOD:PUBLISH
BEGIN:VEVENT
UID:20260419T181608UTC-74558gi5OJ@https://www.urretxu.eus/
DTSTAMP:20260419T181608Z
DESCRIPTION:Kuota: 10€  Programa honetako 3 saio edo gehiagotan apuntatuz g
 ero\, %25eko deskontua)\nIzen-ematea: urriaren 7ra arte kultur etxean \nAn
 tolatzailea: Urretxuko Udala https://www.urretxu.eus/eu/component/rsevents
 pro/ekitaldia/19509-giza-irudia-ikastaroa-josu-marotorekin/?Itemid=775
DTSTART:20240910T163000Z
DTEND:20240910T190000Z
LOCATION:Labeaga Aretoa (Urretxu) (Labeaga Kalea\, 20\, 20700 Urretxu\, Gip
 uzkoa\, Spain)
SUMMARY:GIZA IRUDIA IKASTAROA\, Josu Marotorekin
URL:https://www.urretxu.eus/eu/component/rseventspro/ekitaldia/19509-giza-i
 rudia-ikastaroa-josu-marotorekin/?Itemid=775
END:VEVENT
END:VCALENDAR
