BEGIN:VCALENDAR
VERSION:2.0
PRODID:-//https://www.urretxu.eus///NONSGML kigkonsult.se iCalcreator 2.10.15//
METHOD:PUBLISH
BEGIN:VEVENT
UID:20260419T145550UTC-9932cGuUl0@https://www.urretxu.eus/
DTSTAMP:20260419T145550Z
DESCRIPTION:Urretxun elkarrekin bizi diren kultura edo edonolako aniztasun 
 ezberdinen erakusgarria\, postu gastronomikoekin\, tailerrekin eta askotar
 iko ikuskizunekin.\nAntolatzailea: Urretxuko Udala https://www.urretxu.eus
 /eu/component/rseventspro/ekitaldia/19507-aniztasun-jaia/?Itemid=775
DTSTART:20250524T080000Z
DTEND:20250524T140000Z
LOCATION:Gernikako Arbola plaza (Urretxu) (Gernikako Arbola Plaza\, 20700 U
 rretxu\, Gipuzkoa\, Spain)
SUMMARY:ANIZTASUN JAIA
URL:https://www.urretxu.eus/eu/component/rseventspro/ekitaldia/19507-anizta
 sun-jaia/?Itemid=775
END:VEVENT
END:VCALENDAR
