BEGIN:VCALENDAR
VERSION:2.0
PRODID:-//https://www.urretxu.eus///NONSGML kigkonsult.se iCalcreator 2.10.15//
METHOD:PUBLISH
BEGIN:VEVENT
UID:20260419T181620UTC-8218AEvk0V@https://www.urretxu.eus/
DTSTAMP:20260419T181620Z
DESCRIPTION: ANTOLATZAILEA: Urretxuko Udala\n\n  https://www.urretxu.eus/eu
 /component/rseventspro/ekitaldia/19473-giza-liburutegia-aniztasun-funtzion
 ala/?Itemid=775
DTSTART:20251120T160000Z
DTEND:20251120T180000Z
LOCATION:Urretxuko Liburutegia (Jauregi Kalea\, 21\, 20700 Urretxu\, Gipuzk
 oa\, Spain)
SUMMARY:GIZA LIBURUTEGIA - ANIZTASUN FUNTZIONALA
URL:https://www.urretxu.eus/eu/component/rseventspro/ekitaldia/19473-giza-l
 iburutegia-aniztasun-funtzionala/?Itemid=775
END:VEVENT
END:VCALENDAR
