BEGIN:VCALENDAR
VERSION:2.0
PRODID:-//https://www.urretxu.eus///NONSGML kigkonsult.se iCalcreator 2.10.15//
METHOD:PUBLISH
BEGIN:VEVENT
UID:20260419T163507UTC-8068kAzO51@https://www.urretxu.eus/
DTSTAMP:20260419T163507Z
DESCRIPTION:Taldeak:\n\nBIDELAPURRA\nHARRIA\nRÜDIGER eta SOTOMONTE\n\nANTOL
 ATZAILEA: ZARRAPARRA Zuzeneko Musikaren Aldeko Kolektiboa\nSARRERAK: www.e
 ntradium.com\n\n  https://www.urretxu.eus/eu/component/rseventspro/ekitald
 ia/19468-x-poligrafo-fest/?Itemid=775
DTSTART:20250412T180000Z
DTEND:20250412T215700Z
LOCATION:Nekolaldeko aparkalekua (Urretxu) (Santa Barbara Etxetaldea\, 13\,
  20700)
SUMMARY:X. POLIGRAFO FEST! 
URL:https://www.urretxu.eus/eu/component/rseventspro/ekitaldia/19468-x-poli
 grafo-fest/?Itemid=775
END:VEVENT
END:VCALENDAR
