BEGIN:VCALENDAR
VERSION:2.0
PRODID:-//https://www.urretxu.eus///NONSGML kigkonsult.se iCalcreator 2.10.15//
METHOD:PUBLISH
BEGIN:VEVENT
UID:20260419T224611UTC-5227LuePNo@https://www.urretxu.eus/
DTSTAMP:20260419T224611Z
DESCRIPTION:Apirilaren 2ra arte (asteazkenetan)\nORDUA: 09:00 – 11:00 / 11:
 00 – 13:00 / 15:30 – 17:30 edo 17:30 19:30\nANTOLATZAILEA: Txiribiri Euska
 l Zizelkari Taldea\n\nKuota: 50 €\nIzen ematea: urtarrilak 7 eta 8 enero e
 lkartean\, 16:30-18:30 edo 606339834 deituta\n https://www.urretxu.eus/eu/
 component/rseventspro/ekitaldia/19452-egurrezko-taila-ikastaroa-fran-arzua
 garekin/?Itemid=775
DTSTART;VALUE=DATE:20250108
LOCATION:Txiribiri elkartearen lokala (Belaustegi plaza\, Euskaltegiaren on
 doan. Urretxu) (Labeaga Kalea\, 40B\, 20700 Urretxu\, Gipuzkoa\, Spain)
SUMMARY:EGURREZKO TAILA IKASTAROA Fran Arzuagarekin 
URL:https://www.urretxu.eus/eu/component/rseventspro/ekitaldia/19452-egurre
 zko-taila-ikastaroa-fran-arzuagarekin/?Itemid=775
END:VEVENT
END:VCALENDAR
