BEGIN:VCALENDAR
VERSION:2.0
PRODID:-//https://www.urretxu.eus///NONSGML kigkonsult.se iCalcreator 2.10.15//
METHOD:PUBLISH
BEGIN:VEVENT
UID:20260419T195641UTC-28134kxkVM@https://www.urretxu.eus/
DTSTAMP:20260419T195641Z
DESCRIPTION: \nANTOLATZAILEA: Urretxuko Udala\n\nKuota: 10€. Programa honet
 ako 3 saio edo gehiagotan apuntatuz gero\, %25eko deskontua.\nIzen ematea:
  maiatzaren 10 arte kultur etxean.\n\n https://www.urretxu.eus/eu/componen
 t/rseventspro/ekitaldia/19450-giza-irudia-maratoia-josu-marotorekin/?Itemi
 d=775
DTSTART:20240511T080000Z
DTEND:20240511T160000Z
LOCATION:Labeaga Aretoa (Urretxu) (Labeaga Kalea\, 20\, 20700 Urretxu\, Gip
 uzkoa\, Spain)
SUMMARY:GIZA IRUDIA MARATOIA Josu Marotorekin
URL:https://www.urretxu.eus/eu/component/rseventspro/ekitaldia/19450-giza-i
 rudia-maratoia-josu-marotorekin/?Itemid=775
END:VEVENT
END:VCALENDAR
