BEGIN:VCALENDAR
VERSION:2.0
PRODID:-//https://www.urretxu.eus///NONSGML kigkonsult.se iCalcreator 2.10.15//
METHOD:PUBLISH
BEGIN:VEVENT
UID:20260419T212529UTC-4982aSl2XI@https://www.urretxu.eus/
DTSTAMP:20260419T212529Z
DESCRIPTION:Organizador: Ayuntamiento de Urretxu\nCoordinador: Josu Maroto
 \nProfesor: Jorge López\nhttps://sites.google.com/site/jorgelopez8m/\nInsc
 ripciones\nLugar: Aizpurunea kultur etxea (Urretxu)\nCuota: 10 € cada sesi
 ón-día\nPlazas limitadas https://www.urretxu.eus/eu/component/rseventspro/
 ekitaldia/1945-taller-de-bellas-artes-de-urretxu-cursillo-de-acuarela/?Ite
 mid=775
DTSTART:20170320T170000Z
DTEND:20170320T193000Z
LOCATION:Aizpurunea Kultur Etxea (Urretxu) (Jauregi Kalea\, 19\, 20700 Urre
 txu\, Gipuzkoa\, Spain)
SUMMARY:Taller de Bellas Artes de Urretxu: CURSILLO DE ACUARELA
URL:https://www.urretxu.eus/eu/component/rseventspro/ekitaldia/1945-taller-
 de-bellas-artes-de-urretxu-cursillo-de-acuarela/?Itemid=775
END:VEVENT
END:VCALENDAR
