BEGIN:VCALENDAR
VERSION:2.0
PRODID:-//https://www.urretxu.eus///NONSGML kigkonsult.se iCalcreator 2.10.15//
METHOD:PUBLISH
BEGIN:VEVENT
UID:20260421T120452UTC-58340ONlxP@https://www.urretxu.eus/
DTSTAMP:20260421T120452Z
DESCRIPTION: \nORGANIZA: Urretxuko Udala\nCOLABORA:\n\nCuota: 10€\nInformac
 ión e inscripciones en la casa de cultura 943038088\nAl apuntarse a 3 o má
 s sesiones de este programa\, descuento del 25%\n\n https://www.urretxu.eu
 s/eu/component/rseventspro/ekitaldia/19438-master-class-de-acuarela-con-me
 ndo/?Itemid=775
DTSTART:20240524T163000Z
DTEND:20240524T190000Z
LOCATION:Aizpurunea Kultur Etxea (Urretxu) (Jauregi Kalea\, 19\, 20700 Urre
 txu\, Gipuzkoa\, Spain)
SUMMARY:MASTER CLASS  DE ACUARELA con Mendo
URL:https://www.urretxu.eus/eu/component/rseventspro/ekitaldia/19438-master
 -class-de-acuarela-con-mendo/?Itemid=775
END:VEVENT
END:VCALENDAR
