BEGIN:VCALENDAR
VERSION:2.0
PRODID:-//https://www.urretxu.eus///NONSGML kigkonsult.se iCalcreator 2.10.15//
METHOD:PUBLISH
BEGIN:VEVENT
UID:20260421T091521UTC-5449vIhENV@https://www.urretxu.eus/
DTSTAMP:20260421T091521Z
DESCRIPTION:Cuota: 10€ al apuntarse a 3 o más sesiones de este programa\, d
 escuento del 25%.\nInscripción en la casa de cultura\nOrganiza: Urretxuko 
 Udala https://www.urretxu.eus/eu/component/rseventspro/ekitaldia/19387-cur
 sillo-de-figura-humana-con-josu-maroto/?Itemid=1213
DTSTART:20240910T163000Z
DTEND:20240910T190000Z
LOCATION:Labeaga Aretoa (Urretxu) (Labeaga Kalea\, 20\, 20700 Urretxu\, Gip
 uzkoa\, Spain)
SUMMARY:CURSILLO DE FIGURA HUMANA con Josu Maroto
URL:https://www.urretxu.eus/eu/component/rseventspro/ekitaldia/19387-cursil
 lo-de-figura-humana-con-josu-maroto/?Itemid=1213
END:VEVENT
END:VCALENDAR
