BEGIN:VCALENDAR
VERSION:2.0
PRODID:-//https://www.urretxu.eus///NONSGML kigkonsult.se iCalcreator 2.10.15//
METHOD:PUBLISH
BEGIN:VEVENT
UID:20260421T134346UTC-478034diOo@https://www.urretxu.eus/
DTSTAMP:20260421T134346Z
DESCRIPTION:Dekorazio-artea\, birziklapena\, pintura akrilikoa\, pintura ab
 straktua eta abar ere erakutsiko dira.\nBegiralea: Edurne UribesalgoKuota:
  35 euroIraupena: 2025eko martzoaren 5a arteIzen-ematea: urriak 4 arte kul
 tur etxean 943 038088\nAntolatzailea: Harizpi Eskulan Elkartea  https://ww
 w.urretxu.eus/eu/component/rseventspro/ekitaldia/19109-altzariak-zaharberr
 itzeko-ikastaroaren-hasiera/?Itemid=775
DTSTART:20241009T130000Z
DTEND:20241009T150000Z
LOCATION:Aizpurunea Kultur Etxea (Urretxu) (Jauregi Kalea\, 19\, 20700 Urre
 txu\, Gipuzkoa\, Spain)
SUMMARY:ALTZARIAK ZAHARBERRITZEKO IKASTAROAREN HASIERA
URL:https://www.urretxu.eus/eu/component/rseventspro/ekitaldia/19109-altzar
 iak-zaharberritzeko-ikastaroaren-hasiera/?Itemid=775
END:VEVENT
END:VCALENDAR
