BEGIN:VCALENDAR
VERSION:2.0
PRODID:-//https://www.urretxu.eus///NONSGML kigkonsult.se iCalcreator 2.10.15//
METHOD:PUBLISH
BEGIN:VEVENT
UID:20260419T183705UTC-7901oVRnij@https://www.urretxu.eus/
DTSTAMP:20260419T183705Z
DESCRIPTION:Autora: Irene Nemerovski\nOrganiza: Urretxuko Udala https://www
 .urretxu.eus/eu/component/rseventspro/ekitaldia/19095-club-de-lectura-de-l
 iteratura-de-mujeres-del-mundo-los-perros-y-los-lobos/?Itemid=775
DTSTART:20231026T163000Z
DTEND:20231026T180000Z
LOCATION:Aizpurunea Kultur Etxea (Urretxu) (Jauregi Kalea\, 19\, 20700 Urre
 txu\, Gipuzkoa\, Spain)
SUMMARY:CLUB DE LECTURA DE LITERATURA DE MUJERES DEL MUNDO: 'Los perros y l
 os lobos'
URL:https://www.urretxu.eus/eu/component/rseventspro/ekitaldia/19095-club-d
 e-lectura-de-literatura-de-mujeres-del-mundo-los-perros-y-los-lobos/?Itemi
 d=775
END:VEVENT
END:VCALENDAR
