BEGIN:VCALENDAR
VERSION:2.0
PRODID:-//https://www.urretxu.eus///NONSGML kigkonsult.se iCalcreator 2.10.15//
METHOD:PUBLISH
BEGIN:VEVENT
UID:20260420T091723UTC-7830jceOUS@https://www.urretxu.eus/
DTSTAMP:20260420T091723Z
DESCRIPTION:Idazlea: Irene Nemerovski\nAntolatzailea: Urretxuko Udala https
 ://www.urretxu.eus/eu/component/rseventspro/ekitaldia/19094-munduko-emakum
 een-literaturaren-kluba-los-perros-y-los-lobos/?Itemid=1213
DTSTART:20231026T163000Z
DTEND:20231026T180000Z
LOCATION:Aizpurunea Kultur Etxea (Urretxu) (Jauregi Kalea\, 19\, 20700 Urre
 txu\, Gipuzkoa\, Spain)
SUMMARY:MUNDUKO EMAKUMEEN LITERATURAREN KLUBA: 'Los perros y los lobos'
URL:https://www.urretxu.eus/eu/component/rseventspro/ekitaldia/19094-munduk
 o-emakumeen-literaturaren-kluba-los-perros-y-los-lobos/?Itemid=1213
END:VEVENT
END:VCALENDAR
