BEGIN:VCALENDAR
VERSION:2.0
PRODID:-//https://www.urretxu.eus///NONSGML kigkonsult.se iCalcreator 2.10.15//
METHOD:PUBLISH
BEGIN:VEVENT
UID:20260420T005225UTC-8630gHA2XT@https://www.urretxu.eus/
DTSTAMP:20260420T005225Z
DESCRIPTION:Antolatzailea: Mairi Emakume Elkartea\nLaguntzaileak: Urretxu e
 ta Zumarragako udalak\nIKASTAROAK\nPATCHWORK\nOrdutegia\nostiralak: 10:00 
 – 12:00\nBegiralea: Mila Guijarro\nInformazioa\nMairi Emakume Elkartea: 94
 3 53 35 89 – 685 777 070 https://www.urretxu.eus/eu/component/rseventspro/
 ekitaldia/1903-ikastaroak-mairi-emakume-elkartea-patchwork/?Itemid=1213
DTSTART:20180406T080000Z
DTEND:20180406T100000Z
LOCATION:Aizpurunea Kultur Etxea (Urretxu) (Jauregi Kalea\, 19\, 20700 Urre
 txu\, Gipuzkoa\, Spain)
SUMMARY:Ikastaroak: Mairi Emakume Elkartea - PATCHWORK
URL:https://www.urretxu.eus/eu/component/rseventspro/ekitaldia/1903-ikastar
 oak-mairi-emakume-elkartea-patchwork/?Itemid=1213
END:VEVENT
END:VCALENDAR
