BEGIN:VCALENDAR
VERSION:2.0
PRODID:-//https://www.urretxu.eus///NONSGML kigkonsult.se iCalcreator 2.10.15//
METHOD:PUBLISH
BEGIN:VEVENT
UID:20260421T080418UTC-8054EUDDop@https://www.urretxu.eus/
DTSTAMP:20260421T080418Z
DESCRIPTION:URRIAREN 4tik ABENDUAREN 20ra asteazkenetan 18:30 – 20:30 izang
 o den PINTURA ETA MARRAZKETA IKASTAROAREN IZEN-EMATEA\n \nTOKIA: Aizpurune
 a kultur etxea (Urretxu)\nANTOLATZAILEA: Urretxuko Udala\n\nBegiralea: Ait
 or Etxeberria\nKuota: 15\, 50 euro hileko\nIzen ematea: kultur etxean\, 94
 3 038088\nOharra: Leku mugatua gutxienez 8 – gehienez 15\n\n https://www.u
 rretxu.eus/eu/component/rseventspro/ekitaldia/19021-pintura-eta-marrazketa
 -ikastaroaren-izen-ematea/?Itemid=1213
DTSTART:20230920T080000Z
DTEND:20231004T080000Z
LOCATION:Aizpurunea Kultur Etxea (Urretxu) (Jauregi Kalea\, 19\, 20700 Urre
 txu\, Gipuzkoa\, Spain)
SUMMARY:PINTURA ETA MARRAZKETA IKASTAROAREN IZEN-EMATEA
URL:https://www.urretxu.eus/eu/component/rseventspro/ekitaldia/19021-pintur
 a-eta-marrazketa-ikastaroaren-izen-ematea/?Itemid=1213
END:VEVENT
END:VCALENDAR
