BEGIN:VCALENDAR
VERSION:2.0
PRODID:-//https://www.urretxu.eus///NONSGML kigkonsult.se iCalcreator 2.10.15//
METHOD:PUBLISH
BEGIN:VEVENT
UID:20260421T183725UTC-9911VzoVlz@https://www.urretxu.eus/
DTSTAMP:20260421T183725Z
DESCRIPTION:Antolatzailea: Urretxuko Udala https://www.urretxu.eus/eu/compo
 nent/rseventspro/ekitaldia/19002-vii-santa-anastasia-jaietako-argazki-lehi
 aketarako-argazkiak-aurkezteko-epea/?Itemid=775
DTSTART:20230714T103000Z
DTEND:20230920T120000Z
LOCATION:Aizpurunea Kultur Etxea (Urretxu) (Jauregi Kalea\, 19\, 20700 Urre
 txu\, Gipuzkoa\, Spain)
SUMMARY:VII. SANTA ANASTASIA JAIETAKO ARGAZKI LEHIAKETARAKO ARGAZKIAK AURKE
 ZTEKO EPEA 
URL:https://www.urretxu.eus/eu/component/rseventspro/ekitaldia/19002-vii-sa
 nta-anastasia-jaietako-argazki-lehiaketarako-argazkiak-aurkezteko-epea/?It
 emid=775
END:VEVENT
END:VCALENDAR
