BEGIN:VCALENDAR
VERSION:2.0
PRODID:-//https://www.urretxu.eus///NONSGML kigkonsult.se iCalcreator 2.10.15//
METHOD:PUBLISH
BEGIN:VEVENT
UID:20260419T181622UTC-2551uZfJnn@https://www.urretxu.eus/
DTSTAMP:20260419T181622Z
DESCRIPTION:HAURRENTZAKO ZIENTZIA TAILERRAK (6-12 urte)    • TXANPON GARBIK
 ETA    • SU MENDIA    • SU ITZALGAILUA\nDoanInformazioa: urrelur@urretxu.e
 us Izen-ematea: maiatzaren 2tik 12ra\, edo lekuak agortu arte\, on line ed
 o urrelur@urretxu.eus Antolatzailea: Urrelur Museoa – Museoen eguna https:
 //www.urretxu.eus/eu/component/rseventspro/ekitaldia/18953-haurrentzako-zi
 entzia-tailerrak-6-12-urte/?Itemid=775
DTSTART:20250515T150000Z
DTEND:20250515T170000Z
LOCATION:Urrelur. Mineral eta fosil museoa (Urretxu) (Jauregi Kalea\, 19\, 
 20700 Urretxu\, Gipuzkoa\, Spain)
SUMMARY:HAURRENTZAKO ZIENTZIA TAILERRAK (6-12 urte)
URL:https://www.urretxu.eus/eu/component/rseventspro/ekitaldia/18953-haurre
 ntzako-zientzia-tailerrak-6-12-urte/?Itemid=775
END:VEVENT
END:VCALENDAR
