BEGIN:VCALENDAR
VERSION:2.0
PRODID:-//https://www.urretxu.eus///NONSGML kigkonsult.se iCalcreator 2.10.15//
METHOD:PUBLISH
BEGIN:VEVENT
UID:20260419T181439UTC-064575HUFM@https://www.urretxu.eus/
DTSTAMP:20260419T181439Z
DESCRIPTION:DURANTE TODA LA SEMANA VISITAS GUIADAS GRATUITAS PARA LOS CENTR
 OS ESCOLARES DE URRETXU-ZUMARRAGA (13-17 mayo). Horario flexible.\nOrganiz
 a: Urrelur Museoa – Museoen eguna https://www.urretxu.eus/eu/component/rse
 ventspro/ekitaldia/18949-urrelur-celebra-el-dia-de-los-museos/?Itemid=775
DTSTART:20240513T070000Z
DTEND:20240518T160000Z
LOCATION:Urrelur. Mineral eta fosil museoa (Urretxu) (Jauregi Kalea\, 19\, 
 20700 Urretxu\, Gipuzkoa\, Spain)
SUMMARY:URRELUR CELEBRA EL DÍA DE LOS MUSEOS
URL:https://www.urretxu.eus/eu/component/rseventspro/ekitaldia/18949-urrelu
 r-celebra-el-dia-de-los-museos/?Itemid=775
END:VEVENT
END:VCALENDAR
