BEGIN:VCALENDAR
VERSION:2.0
PRODID:-//https://www.urretxu.eus///NONSGML kigkonsult.se iCalcreator 2.10.15//
METHOD:PUBLISH
BEGIN:VEVENT
UID:20260419T183546UTC-6806I3CNtd@https://www.urretxu.eus/
DTSTAMP:20260419T183546Z
DESCRIPTION:Libro: “EL ACONTECIMIENTO”\, Annie Ernaux\nAntolatzailea: Urret
 xuko Udala\n  https://www.urretxu.eus/eu/component/rseventspro/ekitaldia/1
 8938-club-de-lectura-de-literatura-de-mujeres-del-mundo/?Itemid=775
DTSTART:20230629T163000Z
DTEND:20230629T173000Z
LOCATION:Aizpurunea Kultur Etxea (Urretxu) (Jauregi Kalea\, 19\, 20700 Urre
 txu\, Gipuzkoa\, Spain)
SUMMARY:CLUB DE LECTURA DE LITERATURA DE MUJERES DEL MUNDO
URL:https://www.urretxu.eus/eu/component/rseventspro/ekitaldia/18938-club-d
 e-lectura-de-literatura-de-mujeres-del-mundo/?Itemid=775
END:VEVENT
END:VCALENDAR
