BEGIN:VCALENDAR
VERSION:2.0
PRODID:-//https://www.urretxu.eus///NONSGML kigkonsult.se iCalcreator 2.10.15//
METHOD:PUBLISH
BEGIN:VEVENT
UID:20260419T212716UTC-0883Lrj97k@https://www.urretxu.eus/
DTSTAMP:20260419T212716Z
DESCRIPTION:ORGANIZA: Urretxuko Udala\n\n\nCuota: 10€ Al apuntarse a 3 o má
 s sesiones de este programa\, descuento del 25%\n\n\nInscripciones: hasta 
 el 6 de noviembre en la casa de cultura\n\n https://www.urretxu.eus/eu/com
 ponent/rseventspro/ekitaldia/18910-cursillo-de-figura-humana-con-josu-maro
 to/?Itemid=775
DTSTART:20231107T173000Z
DTEND:20231107T200000Z
LOCATION:Labeaga Aretoa (Urretxu) (Labeaga Kalea\, 20\, 20700 Urretxu\, Gip
 uzkoa\, Spain)
SUMMARY:CURSILLO DE FIGURA HUMANA con Josu Maroto
URL:https://www.urretxu.eus/eu/component/rseventspro/ekitaldia/18910-cursil
 lo-de-figura-humana-con-josu-maroto/?Itemid=775
END:VEVENT
END:VCALENDAR
