BEGIN:VCALENDAR
VERSION:2.0
PRODID:-//https://www.urretxu.eus///NONSGML kigkonsult.se iCalcreator 2.10.15//
METHOD:PUBLISH
BEGIN:VEVENT
UID:20260421T091349UTC-04731wDxCc@https://www.urretxu.eus/
DTSTAMP:20260421T091349Z
DESCRIPTION:ANTOLATZAILEA: Urretxuko Udala\n\n\nKuota: 10€ Programa honetak
 o 3 saio edo gehiagotan apuntatuz gero\, %25eko deskontua\n\n\nIzen ematea
 : azaroaren 6 arte kultur etxean\n\n\n https://www.urretxu.eus/eu/componen
 t/rseventspro/ekitaldia/18909-giza-irudia-ikastaroa-josu-marotorekin/?Item
 id=1213
DTSTART:20231107T173000Z
DTEND:20231107T200000Z
LOCATION:Labeaga Aretoa (Urretxu) (Labeaga Kalea\, 20\, 20700 Urretxu\, Gip
 uzkoa\, Spain)
SUMMARY:GIZA IRUDIA IKASTAROA Josu Marotorekin
URL:https://www.urretxu.eus/eu/component/rseventspro/ekitaldia/18909-giza-i
 rudia-ikastaroa-josu-marotorekin/?Itemid=1213
END:VEVENT
END:VCALENDAR
