BEGIN:VCALENDAR
VERSION:2.0
PRODID:-//https://www.urretxu.eus///NONSGML kigkonsult.se iCalcreator 2.10.15//
METHOD:PUBLISH
BEGIN:VEVENT
UID:20260419T181743UTC-8628A0GoI4@https://www.urretxu.eus/
DTSTAMP:20260419T181743Z
DESCRIPTION:Liburua: “QUIÉREME BIEN”\, Rosalind B. Penfold\nANTOLATZAILEA: 
 Urretxuko Udala https://www.urretxu.eus/eu/component/rseventspro/ekitaldia
 /18860-munduko-emakumeen-literaturaren-kluba/?Itemid=775
DTSTART:20230525T163000Z
DTEND:20230525T180000Z
LOCATION:Aizpurunea Kultur Etxea (Urretxu) (Jauregi Kalea\, 19\, 20700 Urre
 txu\, Gipuzkoa\, Spain)
SUMMARY:MUNDUKO EMAKUMEEN LITERATURAREN KLUBA
URL:https://www.urretxu.eus/eu/component/rseventspro/ekitaldia/18860-munduk
 o-emakumeen-literaturaren-kluba/?Itemid=775
END:VEVENT
END:VCALENDAR
