BEGIN:VCALENDAR
VERSION:2.0
PRODID:-//https://www.urretxu.eus///NONSGML kigkonsult.se iCalcreator 2.10.15//
METHOD:PUBLISH
BEGIN:VEVENT
UID:20260419T200342UTC-5871guDFWU@https://www.urretxu.eus/
DTSTAMP:20260419T200342Z
DESCRIPTION:Inscripción hasta el 18 de diciembre en la casa de cultura\nCuo
 ta: 10€\nOrganiza: Urretxuko Udala https://www.urretxu.eus/eu/component/rs
 eventspro/ekitaldia/18829-cursillo-de-figura-humana-con-josu-maroto/?Itemi
 d=775
DTSTART:20231219T180000Z
DTEND:20231219T190000Z
LOCATION:Labeaga Aretoa (Urretxu) (Labeaga Kalea\, 20\, 20700 Urretxu\, Gip
 uzkoa\, Spain)
SUMMARY:CURSILLO DE FIGURA HUMANA con Josu Maroto
URL:https://www.urretxu.eus/eu/component/rseventspro/ekitaldia/18829-cursil
 lo-de-figura-humana-con-josu-maroto/?Itemid=775
END:VEVENT
END:VCALENDAR
