BEGIN:VCALENDAR
VERSION:2.0
PRODID:-//https://www.urretxu.eus///NONSGML kigkonsult.se iCalcreator 2.10.15//
METHOD:PUBLISH
BEGIN:VEVENT
UID:20260421T091413UTC-7243wVUZ4r@https://www.urretxu.eus/
DTSTAMP:20260421T091413Z
DESCRIPTION:Izen-ematea: abenduaren 18a arte kultur etxean\nKuota: 10€\nAnt
 olatzailea: Urretxuko Udala https://www.urretxu.eus/eu/component/rseventsp
 ro/ekitaldia/18828-giza-irudia-ikastaroa-josu-marotorekin/?Itemid=1213
DTSTART:20231219T173000Z
DTEND:20231219T183000Z
LOCATION:Labeaga Aretoa (Urretxu) (Labeaga Kalea\, 20\, 20700 Urretxu\, Gip
 uzkoa\, Spain)
SUMMARY:GIZA IRUDIA IKASTAROA Josu Marotorekin
URL:https://www.urretxu.eus/eu/component/rseventspro/ekitaldia/18828-giza-i
 rudia-ikastaroa-josu-marotorekin/?Itemid=1213
END:VEVENT
END:VCALENDAR
