BEGIN:VCALENDAR
VERSION:2.0
PRODID:-//https://www.urretxu.eus///NONSGML kigkonsult.se iCalcreator 2.10.15//
METHOD:PUBLISH
BEGIN:VEVENT
UID:20260421T110111UTC-22043oKhuH@https://www.urretxu.eus/
DTSTAMP:20260421T110111Z
DESCRIPTION:ANTOLATZAILEA: Lizarriturri txistulari elkartea https://www.urr
 etxu.eus/eu/component/rseventspro/ekitaldia/18806-inauteriak-2024-lizarrit
 urri-txistulari-elkartearen-kalejira/?Itemid=1213
DTSTART:20240211T080000Z
DTEND:20240211T110000Z
LOCATION:Urretxuko kaleetan zehar (Iparragirre Kalea\, 20700 Urretxu\, Gipu
 zkoa\, Spain)
SUMMARY:INAUTERIAK 2024: LIZARRITURRI TXISTULARI ELKARTEAREN KALEJIRA
URL:https://www.urretxu.eus/eu/component/rseventspro/ekitaldia/18806-inaute
 riak-2024-lizarriturri-txistulari-elkartearen-kalejira/?Itemid=1213
END:VEVENT
END:VCALENDAR
