BEGIN:VCALENDAR
VERSION:2.0
PRODID:-//https://www.urretxu.eus///NONSGML kigkonsult.se iCalcreator 2.10.15//
METHOD:PUBLISH
BEGIN:VEVENT
UID:20260419T150324UTC-0764VKp5gx@https://www.urretxu.eus/
DTSTAMP:20260419T150324Z
DESCRIPTION:ANTOLATZAILEA: Secundino Esnaola Musika Eskola\nTOKIA: Urretxu 
 eta Zumarrragako kaleak  https://www.urretxu.eus/eu/component/rseventspro/
 ekitaldia/18802-inauteriak-2024-secundino-esnaola-musika-eskolako-dantza-i
 kasleen-desfilea/?Itemid=775
DTSTART:20240210T160000Z
DTEND:20240210T190000Z
LOCATION:Urretxu eta Zumarragako kaleak (Labeaga Kalea\, 18\, 20700 Urretxu
 \, Gipuzkoa\, Spain)
SUMMARY:INAUTERIAK 2024: SECUNDINO ESNAOLA MUSIKA ESKOLAKO DANTZA IKASLEEN 
 DESFILEA
URL:https://www.urretxu.eus/eu/component/rseventspro/ekitaldia/18802-inaute
 riak-2024-secundino-esnaola-musika-eskolako-dantza-ikasleen-desfilea/?Item
 id=775
END:VEVENT
END:VCALENDAR
