BEGIN:VCALENDAR
VERSION:2.0
PRODID:-//https://www.urretxu.eus///NONSGML kigkonsult.se iCalcreator 2.10.15//
METHOD:PUBLISH
BEGIN:VEVENT
UID:20260419T150258UTC-2205ZsBI1o@https://www.urretxu.eus/
DTSTAMP:20260419T150258Z
DESCRIPTION:HORA: comienza a las 11:30h y durante todo el día\nLUGAR: Pasac
 alle por las calles de Urretxu y la plaza Gernikako Arbola\nORGANIZA: Ipar
 ragirre Balerdi Musika Tailerra https://www.urretxu.eus/eu/component/rseve
 ntspro/ekitaldia/18801-carnavales-2024-pasacalles-con-la-banda-de-musica-i
 parragirre-balerdi/?Itemid=775
DTSTART:20240210T103000Z
DTEND:20240210T190000Z
LOCATION:Urretxu (Kalea Iparragirre\, 20W\, 20700 Urretxu\, Gipuzkoa\, Spai
 n)
SUMMARY:CARNAVALES 2024: PASACALLES CON LA BANDA DE MÚSICA IPARRAGIRRE BALE
 RDI 
URL:https://www.urretxu.eus/eu/component/rseventspro/ekitaldia/18801-carnav
 ales-2024-pasacalles-con-la-banda-de-musica-iparragirre-balerdi/?Itemid=77
 5
END:VEVENT
END:VCALENDAR
