BEGIN:VCALENDAR
VERSION:2.0
PRODID:-//https://www.urretxu.eus///NONSGML kigkonsult.se iCalcreator 2.10.15//
METHOD:PUBLISH
BEGIN:VEVENT
UID:20260419T165347UTC-0904RS0AaX@https://www.urretxu.eus/
DTSTAMP:20260419T165347Z
DESCRIPTION:17\, Zelai Aritzi parkea (Zumarraga) Beste saioak / Otros event
 os:3\, San Martin auzoko parkean\, karpan (Urretxu)10\, Belaustegi plazan 
 parkean (Urretxu)24\, Trintxeretako parkea (Zumarraga) https://www.urretxu
 .eus/eu/component/rseventspro/ekitaldia/18148-parketarrak-haur-eta-horien-
 gurasoentzat-jolasak-euskaraz/?Itemid=775
DTSTART:20221117T160000Z
DTEND:20221117T180000Z
LOCATION:Zelai Aristi parkea (Zumarraga) (Zelai-Arizti Parkea\, 1\, 20700 Z
 umarraga\, Gipuzkoa\, Urretxu\, Spain)
SUMMARY:PARKETARRAK (haur eta horien gurasoentzat jolasak euskaraz)
URL:https://www.urretxu.eus/eu/component/rseventspro/ekitaldia/18148-parket
 arrak-haur-eta-horien-gurasoentzat-jolasak-euskaraz/?Itemid=775
END:VEVENT
END:VCALENDAR
