BEGIN:VCALENDAR
VERSION:2.0
PRODID:-//https://www.urretxu.eus///NONSGML kigkonsult.se iCalcreator 2.10.15//
METHOD:PUBLISH
BEGIN:VEVENT
UID:20260419T163504UTC-7273vj1xC5@https://www.urretxu.eus/
DTSTAMP:20260419T163504Z
DESCRIPTION:MAHAI-INGURUA: Mikel Babiano\, Luis Mari Larrañaga - “Itzulpeng
 intzak gurean duen garrantziaz”\nTOKIA: Urretxuko liburutegia (Urretxu)\nA
 NTOLATZAILEA: Urretxuko Udala\n  https://www.urretxu.eus/eu/component/rsev
 entspro/ekitaldia/18106-interesgunea-itzulpengintza---itzultzaileak/?Itemi
 d=775
DTSTART:20230926T170000Z
DTEND:20230926T180000Z
LOCATION:Urretxuko Liburutegia (Jauregi Kalea\, 21\, 20700 Urretxu\, Gipuzk
 oa\, Spain)
SUMMARY:INTERESGUNEA: ITZULPENGINTZA – ITZULTZAILEAK
URL:https://www.urretxu.eus/eu/component/rseventspro/ekitaldia/18106-intere
 sgunea-itzulpengintza---itzultzaileak/?Itemid=775
END:VEVENT
END:VCALENDAR
