BEGIN:VCALENDAR
VERSION:2.0
PRODID:-//https://www.urretxu.eus///NONSGML kigkonsult.se iCalcreator 2.10.15//
METHOD:PUBLISH
BEGIN:VEVENT
UID:20260419T181607UTC-5808ILtDa3@https://www.urretxu.eus/
DTSTAMP:20260419T181607Z
DESCRIPTION:DÍAS: 09 - 24\, Septiembre\nHORA: Todo el día\nEUSKAL JAIA\, ir
 ailak 17\nORGANIZA: Herriko hainbat elkartea y Urretxuko Udala\n \n> Desca
 rgar Programa Santa Anastia 2023\n> Conoce Carrozas Fiestas Santa Anastasi
 a https://www.urretxu.eus/eu/component/rseventspro/ekitaldia/18096-fiestas
 -de-santa-anastasia/?Itemid=775
DTSTART;VALUE=DATE:20230909
LOCATION:Urretxu (Kalea Iparragirre\, 20W\, 20700 Urretxu\, Gipuzkoa\, Spai
 n)
SUMMARY:Fiestas de SANTA ANASTASIA
URL:https://www.urretxu.eus/eu/component/rseventspro/ekitaldia/18096-fiesta
 s-de-santa-anastasia/?Itemid=775
END:VEVENT
END:VCALENDAR
