BEGIN:VCALENDAR
VERSION:2.0
PRODID:-//https://www.urretxu.eus///NONSGML kigkonsult.se iCalcreator 2.10.15//
METHOD:PUBLISH
BEGIN:VEVENT
UID:20260419T195641UTC-2610lz8JBG@https://www.urretxu.eus/
DTSTAMP:20260419T195641Z
DESCRIPTION:El cursillo será a partir del 11 de enero\, los  miércoles 18:3
 0 – 20:30\nHORA: 10:00 – 14:00 / 17:00 – 20:00\nLUGAR: Aizpurunea kultur e
 txea (Urretxu)\nORGANIZA: Urretxuko Udala\n\nMonitor: Aitor Etxeberria\nCu
 ota: 15\, 50 al mes\nInscripciones: kultur etxean\, 943 038088\nPlazas lim
 itadas mínimo 8 máximo 15\n\n https://www.urretxu.eus/eu/component/rsevent
 spro/ekitaldia/18012-inscripcion-en-el-curso-de-pintura-y-dibujo/?Itemid=7
 75
DTSTART:20230105T090000Z
DTEND:20230110T190000Z
LOCATION:Aizpurunea Kultur Etxea (Urretxu) (Jauregi Kalea\, 19\, 20700 Urre
 txu\, Gipuzkoa\, Spain)
SUMMARY:INSCRIPCIÓN EN EL CURSO DE PINTURA Y DIBUJO
URL:https://www.urretxu.eus/eu/component/rseventspro/ekitaldia/18012-inscri
 pcion-en-el-curso-de-pintura-y-dibujo/?Itemid=775
END:VEVENT
END:VCALENDAR
