BEGIN:VCALENDAR
VERSION:2.0
PRODID:-//https://www.urretxu.eus///NONSGML kigkonsult.se iCalcreator 2.10.15//
METHOD:PUBLISH
BEGIN:VEVENT
UID:20260421T104917UTC-1621J3PuvK@https://www.urretxu.eus/
DTSTAMP:20260421T104917Z
DESCRIPTION:Concierto de fin de curso\nOrganiza: Secundino Esnaola Musika E
 skola https://www.urretxu.eus/eu/component/rseventspro/ekitaldia/17742-con
 cierto-de-fin-de-curso-de-secundino-esnaola-musika-eskola/?Itemid=1213
DTSTART:20230620T170000Z
DTEND:20230620T180000Z
LOCATION:Labeaga Aretoa (Urretxu) (Labeaga Kalea\, 20\, 20700 Urretxu\, Gip
 uzkoa\, Spain)
SUMMARY:CONCIERTO DE FIN DE CURSO DE SECUNDINO ESNAOLA MUSIKA ESKOLA
URL:https://www.urretxu.eus/eu/component/rseventspro/ekitaldia/17742-concie
 rto-de-fin-de-curso-de-secundino-esnaola-musika-eskola/?Itemid=1213
END:VEVENT
END:VCALENDAR
