BEGIN:VCALENDAR
VERSION:2.0
PRODID:-//https://www.urretxu.eus///NONSGML kigkonsult.se iCalcreator 2.10.15//
METHOD:PUBLISH
BEGIN:VEVENT
UID:20260419T212513UTC-4494HtZxMB@https://www.urretxu.eus/
DTSTAMP:20260419T212513Z
DESCRIPTION:DÍA: del 12 al 23\nHORA: Todo el día\nEntrega de premios 14 de 
 julio en la casa de cultura Zelai Arizti\nLUGAR: Ventanas\, balcones y ext
 eriores de caseríos de Urretxu y Zumarraga\nORGANIZA: Urretxu eta Zumarrag
 ako Udalak https://www.urretxu.eus/eu/component/rseventspro/ekitaldia/1773
 1-35-premios-florales-de-urretxu-zumarraga/?Itemid=775
DTSTART;VALUE=DATE:20230612
LOCATION:Urretxu & Zumarraga (Iparragirre Kalea\, 20\, 20700 Urretxu\, Gipu
 zkoa\, Spain)
SUMMARY:35 PREMIOS FLORALES DE URRETXU ZUMARRAGA
URL:https://www.urretxu.eus/eu/component/rseventspro/ekitaldia/17731-35-pre
 mios-florales-de-urretxu-zumarraga/?Itemid=775
END:VEVENT
END:VCALENDAR
