BEGIN:VCALENDAR
VERSION:2.0
PRODID:-//https://www.urretxu.eus///NONSGML kigkonsult.se iCalcreator 2.10.15//
METHOD:PUBLISH
BEGIN:VEVENT
UID:20260422T084618UTC-2177hwm56m@https://www.urretxu.eus/
DTSTAMP:20260422T084618Z
DESCRIPTION:Cuentacuento en inglés: Storyland: el país de los cuentos\nInsc
 ripción: del 14 al 25 de noviembre\nEdad: A partir de 6 años (1.EP)\nOrgan
 iza: Biblioteca de Urretxu https://www.urretxu.eus/eu/component/rseventspr
 o/ekitaldia/17663-punto-de-interes-de-la-biblioteca-otros-idiomas-ingles/?
 Itemid=1213
DTSTART:20221129T160000Z
DTEND:20221129T170000Z
LOCATION:Urretxuko Liburutegia (Jauregi Kalea\, 21\, 20700 Urretxu\, Gipuzk
 oa\, Spain)
SUMMARY:PUNTO DE INTERÉS DE LA BIBLIOTECA - Otros idiomas Inglés
URL:https://www.urretxu.eus/eu/component/rseventspro/ekitaldia/17663-punto-
 de-interes-de-la-biblioteca-otros-idiomas-ingles/?Itemid=1213
END:VEVENT
END:VCALENDAR
