BEGIN:VCALENDAR
VERSION:2.0
PRODID:-//https://www.urretxu.eus///NONSGML kigkonsult.se iCalcreator 2.10.15//
METHOD:PUBLISH
BEGIN:VEVENT
UID:20260419T163831UTC-2137WgmXHI@https://www.urretxu.eus/
DTSTAMP:20260419T163831Z
DESCRIPTION:Ipuinsaioa ingelesez: Storyland: ipuinen herrialdea\nIzen emate
 a: azaroaren 14tik 25eraAdina: 6 urtetik gora (1.LH)\nUrretxuko liburutegi
 a https://www.urretxu.eus/eu/component/rseventspro/ekitaldia/17662-liburut
 egiko-interesgunea-beste-hizkuntzak-ingelesa/?Itemid=775
DTSTART:20221129T160000Z
DTEND:20221129T170000Z
LOCATION:Urretxuko Liburutegia (Jauregi Kalea\, 21\, 20700 Urretxu\, Gipuzk
 oa\, Spain)
SUMMARY:LIBURUTEGIKO INTERESGUNEA - Beste hizkuntzak: ingelesa
URL:https://www.urretxu.eus/eu/component/rseventspro/ekitaldia/17662-liburu
 tegiko-interesgunea-beste-hizkuntzak-ingelesa/?Itemid=775
END:VEVENT
END:VCALENDAR
