BEGIN:VCALENDAR
VERSION:2.0
PRODID:-//https://www.urretxu.eus///NONSGML kigkonsult.se iCalcreator 2.10.15//
METHOD:PUBLISH
BEGIN:VEVENT
UID:20260419T181610UTC-9022U7Vrk5@https://www.urretxu.eus/
DTSTAMP:20260419T181610Z
DESCRIPTION:* Presentación beca Xabier Ormazabal 2023\n* Proyección de los 
 trabajos ganadores de ediciones anteriores-Ander Zabalza\, ganador beca 20
 19-Maialen Rojo\, ganadora beca 2021\n* Proyecciones: 19:45 “ITZALAK”\, Al
 ex Areizaga\, película estrenada en Mendi Film festival 21:30 “MANASLU NEG
 UAN”\, Alex Txikon\n \nOrganiza: Urretxuko Udala https://www.urretxu.eus/e
 u/component/rseventspro/ekitaldia/17657-beca-xabier-ormazabal-y-fiesta-de-
 la-montana-2023/?Itemid=775
DTSTART:20230521T170000Z
DTEND:20230521T200000Z
LOCATION:Labeaga Aretoa (Urretxu) (Labeaga Kalea\, 20\, 20700 Urretxu\, Gip
 uzkoa\, Spain)
SUMMARY:BECA XABIER ORMAZABAL Y FIESTA DE LA MONTAÑA 2023
URL:https://www.urretxu.eus/eu/component/rseventspro/ekitaldia/17657-beca-x
 abier-ormazabal-y-fiesta-de-la-montana-2023/?Itemid=775
END:VEVENT
END:VCALENDAR
