BEGIN:VCALENDAR
VERSION:2.0
PRODID:-//https://www.urretxu.eus///NONSGML kigkonsult.se iCalcreator 2.10.15//
METHOD:PUBLISH
BEGIN:VEVENT
UID:20260419T181609UTC-9701uRvbXL@https://www.urretxu.eus/
DTSTAMP:20260419T181609Z
DESCRIPTION:* Xabier Ormazabal 2023 bekaren aurkezpena\n \n* Aurreko deiald
 ien lan sarituen proiekzioak -Ander Zabalza\, 2019ko Beka irabazlea-Maiale
 n Rojo\, 2021eko Beka irabazlea\n* Proiekzioak: 19:45 “ITZALAK”\, Alex Are
 izaga\, Mendi Film festivalen estreinatutako pelikula 21:30 “MANASLU NEGUA
 N”\, Alex Txikon\n \nAntolatzailea: Urretxuko Udala https://www.urretxu.eu
 s/eu/component/rseventspro/ekitaldia/17656-xabier-ormazabal-beka-eta-mendi
 -festa-2023/?Itemid=775
DTSTART:20230521T170000Z
DTEND:20230521T203000Z
LOCATION:Labeaga Aretoa (Urretxu) (Labeaga Kalea\, 20\, 20700 Urretxu\, Gip
 uzkoa\, Spain)
SUMMARY:XABIER ORMAZABAL BEKA ETA MENDI FESTA 2023
URL:https://www.urretxu.eus/eu/component/rseventspro/ekitaldia/17656-xabier
 -ormazabal-beka-eta-mendi-festa-2023/?Itemid=775
END:VEVENT
END:VCALENDAR
